{
 "version": 1.0,
 "tileBundlesPath": "./tile",
 "tileInfo": {
  "spatialReference": {
   "wkid": 2193,
   "latestWkid": 2193
  },
  "origin": {
   "x": -4020900,
   "y": 19998100
  },
  "rows": 256,
  "cols": 256,
  "dpi": 96,
  "lods": [
   {
    "level": 0,
    "resolution": 36981.03621813855,
    "scale": 1.39770566007179E8
   },
   {
    "level": 1,
    "resolution": 18490.518109069275,
    "scale": 6.98852830035895E7
   },
   {
    "level": 2,
    "resolution": 9245.259054534637,
    "scale": 3.494264150179475E7
   },
   {
    "level": 3,
    "resolution": 4622.629527267319,
    "scale": 1.7471320750897374E7
   },
   {
    "level": 4,
    "resolution": 2311.3147636336594,
    "scale": 8735660.375448687
   },
   {
    "level": 5,
    "resolution": 1155.6573818168297,
    "scale": 4367830.1877243435
   },
   {
    "level": 6,
    "resolution": 577.8286909084148,
    "scale": 2183915.0938621718
   },
   {
    "level": 7,
    "resolution": 288.9143454542074,
    "scale": 1091957.5469310859
   },
   {
    "level": 8,
    "resolution": 144.4571727271037,
    "scale": 545978.7734655429
   },
   {
    "level": 9,
    "resolution": 72.22858636355186,
    "scale": 272989.38673277147
   },
   {
    "level": 10,
    "resolution": 36.11429318177593,
    "scale": 136494.69336638573
   },
   {
    "level": 11,
    "resolution": 18.057146590887964,
    "scale": 68247.34668319287
   },
   {
    "level": 12,
    "resolution": 9.028573295443982,
    "scale": 34123.67334159643
   },
   {
    "level": 13,
    "resolution": 4.514286647721991,
    "scale": 17061.836670798217
   },
   {
    "level": 14,
    "resolution": 2.2571433238609955,
    "scale": 8530.918335399108
   },
   {
    "level": 15,
    "resolution": 1.1285716619304977,
    "scale": 4265.459167699554
   },
   {
    "level": 16,
    "resolution": 0.5642858309652489,
    "scale": 2132.729583849777
   },
   {
    "level": 17,
    "resolution": 0.28214291548262443,
    "scale": 1066.3647919248886
   },
   {
    "level": 18,
    "resolution": 0.14107145774131222,
    "scale": 533.1823959624443
   },
   {
    "level": 19,
    "resolution": 0.07053572887065611,
    "scale": 266.59119798122214
   },
   {
    "level": 20,
    "resolution": 0.035267864435328054,
    "scale": 133.29559899061107
   },
   {
    "level": 21,
    "resolution": 0.017633932217664027,
    "scale": 66.64779949530553
   }
  ],
  "format": "MIXED",
  "compressionQuality": 75,
  "bandCount": 1,
  "lercError": 0,
  "storageFormat": "esriMapCacheStorageModeCompactV2",
  "packetSize": 128
 },
 "storageInfo": {
  "packetSize": 128,
  "storageFormat": "esriMapCacheStorageModeCompactV2"
 },
 "tileImageInfo": {
  "format": "MIXED",
  "compressionQuality": 75,
  "bandCount": 1,
  "lercError": 0
 },
 "name": "Landslide_EQ_RLC",
 "minScale": 1.39770566007179E8,
 "maxScale": 0,
 "minLOD": 0,
 "maxLOD": 21,
 "spatialReference": {
  "wkid": 2193,
  "latestWkid": 2193
 },
 "units": "esriMeters",
 "serviceDescription": "",
 "resampling": true,
 "exportTilesAllowed": false,
 "initialExtent": {
  "xmin": 1861324,
  "ymin": 5725732,
  "xmax": 1917200,
  "ymax": 5796084,
  "spatialReference": {
   "wkid": 2193,
   "latestWkid": 2193
  }
 },
 "fullExtent": {
  "xmin": 1861324,
  "ymin": 5725732,
  "xmax": 1917200,
  "ymax": 5796084,
  "spatialReference": {
   "wkid": 2193,
   "latestWkid": 2193
  }
 },
 "currentVersion": 11.3,
 "mapName": "Landslide_EQ_RLC",
 "singleFusedMapCache": true,
 "type": "MapServer",
 "supportedExtensions": "KmlServer",
 "capabilities": "TilesOnly,Tilemap",
 "serviceItemId": "b159244182dd4ccdb70fe6075a23aa46"
}
