View In:
ArcGIS JavaScript
ArcGIS Online Map Viewer
ArcGIS Earth
ArcGIS Pro
Service Description:
Map Name: Landslide_RF_RLC
Legend
All Layers and Tables
Layers:
Description:
Service Item Id: b9eab2be1528419f9529b60b7077d2ec
Copyright Text:
Spatial Reference:
2193
(2193)
Single Fused Map Cache: true
Tile Info:
- Height: 256
- Width: 256
- DPI: 96
-
Levels of Detail: 22
-
Level ID: 0
[ Start Tile, End Tile ]
- Resolution: 36981.03621813855
- Scale: 1.39770566007179E8
-
Level ID: 1
[ Start Tile, End Tile ]
- Resolution: 18490.518109069275
- Scale: 6.98852830035895E7
-
Level ID: 2
[ Start Tile, End Tile ]
- Resolution: 9245.259054534637
- Scale: 3.494264150179475E7
-
Level ID: 3
[ Start Tile, End Tile ]
- Resolution: 4622.629527267319
- Scale: 1.7471320750897374E7
-
Level ID: 4
[ Start Tile, End Tile ]
- Resolution: 2311.3147636336594
- Scale: 8735660.375448687
-
Level ID: 5
[ Start Tile, End Tile ]
- Resolution: 1155.6573818168297
- Scale: 4367830.1877243435
-
Level ID: 6
[ Start Tile, End Tile ]
- Resolution: 577.8286909084148
- Scale: 2183915.0938621718
-
Level ID: 7
[ Start Tile, End Tile ]
- Resolution: 288.9143454542074
- Scale: 1091957.5469310859
-
Level ID: 8
[ Start Tile, End Tile ]
- Resolution: 144.4571727271037
- Scale: 545978.7734655429
-
Level ID: 9
[ Start Tile, End Tile ]
- Resolution: 72.22858636355186
- Scale: 272989.38673277147
-
Level ID: 10
[ Start Tile, End Tile ]
- Resolution: 36.11429318177593
- Scale: 136494.69336638573
-
Level ID: 11
[ Start Tile, End Tile ]
- Resolution: 18.057146590887964
- Scale: 68247.34668319287
-
Level ID: 12
[ Start Tile, End Tile ]
- Resolution: 9.028573295443982
- Scale: 34123.67334159643
-
Level ID: 13
[ Start Tile, End Tile ]
- Resolution: 4.514286647721991
- Scale: 17061.836670798217
-
Level ID: 14
[ Start Tile, End Tile ]
- Resolution: 2.2571433238609955
- Scale: 8530.918335399108
-
Level ID: 15
[ Start Tile, End Tile ]
- Resolution: 1.1285716619304977
- Scale: 4265.459167699554
-
Level ID: 16
[ Start Tile, End Tile ]
- Resolution: 0.5642858309652489
- Scale: 2132.729583849777
-
Level ID: 17
[ Start Tile, End Tile ]
- Resolution: 0.28214291548262443
- Scale: 1066.3647919248886
-
Level ID: 18
[ Start Tile, End Tile ]
- Resolution: 0.14107145774131222
- Scale: 533.1823959624443
-
Level ID: 19
[ Start Tile, End Tile ]
- Resolution: 0.07053572887065611
- Scale: 266.59119798122214
-
Level ID: 20
[ Start Tile, End Tile ]
- Resolution: 0.035267864435328054
- Scale: 133.29559899061107
-
Level ID: 21
[ Start Tile, End Tile ]
- Resolution: 0.017633932217664027
- Scale: 66.64779949530553
- Format: MIXED
- Compression Quality: 75.0
- Origin: X: -4020900.0
Y: 1.99981E7
- Spatial Reference: 2193
(2193)
Storage Info:
- Storage Format: esriMapCacheStorageModeCompactV2
- Packet Size: 128
Initial Extent:
XMin: 1861324
YMin: 5725732
XMax: 1917200
YMax: 5796084
Spatial Reference: 2193
(2193)
Full Extent:
XMin: 1861324
YMin: 5725732
XMax: 1917200
YMax: 5796084
Spatial Reference: 2193
(2193)
Units: esriMeters
Supported Image Format Types:
Document Info:
Supports Dynamic Layers: false
Resampling: true
MaxRecordCount: 0
MaxImageHeight: 0
MaxImageWidth: 0
Supported Query Formats:
Supports Query Data Elements:
Min Scale: 1.39770566007179E8
Max Scale: 0
Min LOD: 0
Max LOD: 21
Child Resources:
Info
Supported Operations:
QueryLegends
Return Updates
Generate KML